BEGIN:VCALENDAR
VERSION:2.0
PRODID:icalendar-ruby
CALSCALE:GREGORIAN
BEGIN:VEVENT
DTSTAMP:20260426T035129Z
UID:93b62a59-3b0a-44c9-a8d5-0ccc5013a00e
DTSTART;VALUE=DATE:20201001
DESCRIPTION:Property ID# 489309\, Locatoin: 98 Moorhouse Avenue\, Christchu
 rch\, Time: 12:00PM
SUMMARY:Auction for 
END:VEVENT
END:VCALENDAR
