BEGIN:VCALENDAR
VERSION:2.0
PRODID:icalendar-ruby
CALSCALE:GREGORIAN
BEGIN:VEVENT
DTSTAMP:20260422T085300Z
UID:ba51c9e0-b684-423b-a45f-ce0accf5617c
DTSTART;VALUE=DATE:20201202
DESCRIPTION:Property ID# 495345\, Locatoin: Tait Technology Centre\, 245 Wo
 olridge Road\, Christchurch\, Time: 12:00PM
SUMMARY:Auction for 
END:VEVENT
END:VCALENDAR
