BEGIN:VCALENDAR
VERSION:2.0
PRODID:icalendar-ruby
CALSCALE:GREGORIAN
BEGIN:VEVENT
DTSTAMP:20260425T172413Z
UID:3811cd8c-cad2-49f9-8b82-53ff8fb173f5
DTSTART;VALUE=DATE:20240417
DESCRIPTION:Property ID# 573291\, Time: 12:00PM
SUMMARY:Auction for 
END:VEVENT
END:VCALENDAR
