BEGIN:VCALENDAR
VERSION:2.0
PRODID:icalendar-ruby
CALSCALE:GREGORIAN
BEGIN:VEVENT
DTSTAMP:20260425T143721Z
UID:57a33256-8e8f-4b03-a11b-b79587b0816f
DTSTART;VALUE=DATE:20260514
DESCRIPTION:Property ID# 606883\, Locatoin: 471 Papanui Road\, Gold Auction
  Rooms (USP)\, Time: 10:00AM
SUMMARY:Auction for 12 Marble Wood Drive
END:VEVENT
END:VCALENDAR
